BEGIN:VCALENDAR
VERSION:2.0
PRODID:-//wp-events-plugin.com//7.2.3.1//EN
TZID:Europe/Berlin
X-WR-TIMEZONE:Europe/Berlin
BEGIN:VEVENT
UID:114@vcplingen.de
DTSTART;TZID=Europe/Berlin;VALUE=DATE:20250124
DTEND;TZID=Europe/Berlin;VALUE=DATE:20250202
DTSTAMP:20250122T154316Z
URL:https://vcplingen.de/veranstaltungen/skifreizeit-oesterreich/
SUMMARY:Skifreizeit Österreich
DESCRIPTION:Auch in dieses Jahr geht es für einige ältere Pfadfinder nach
  Österreich. Ob noch Plätze frei sind\, kann bei der Stammesleitung\, be
 i Cobbel oder bei Jan Meyer erfragt werden.
LOCATION:Österreich\, Österreich\, Österreich \, Deutschland
X-APPLE-STRUCTURED-LOCATION;VALUE=URI;X-ADDRESS=Österreich\, Österreich \
 , Deutschland;X-APPLE-RADIUS=100;X-TITLE=Österreich:geo:0,0
END:VEVENT
BEGIN:VTIMEZONE
TZID:Europe/Berlin
X-LIC-LOCATION:Europe/Berlin
BEGIN:STANDARD
DTSTART:20241027T020000
TZOFFSETFROM:+0200
TZOFFSETTO:+0100
TZNAME:CET
END:STANDARD
END:VTIMEZONE
END:VCALENDAR